BEGIN:VCALENDAR
VERSION:2.0
PRODID:-//Tukios.com/
BEGIN:VEVENT
UID:9291a40e-8fa7-4011-ac12-2d1c74b7662d@www.galantefuneralhome.com
DTSTAMP:20260422T213030Z
DTSTART:20260425
SUMMARY:Entombment
DESCRIPTION:
URL:https://www.galantefuneralhome.com/obituaries/carmela-fiasche
LOCATION: 1500 Stuyvesant Ave.  Union NJ 07083
GEO:40.7070718;-74.2604273
END:VEVENT
END:VCALENDAR