BEGIN:VCALENDAR
VERSION:2.0
PRODID:-//Tukios.com/
BEGIN:VEVENT
UID:eb224992-6fa1-4974-b3d4-14af9ea40c69@www.galantefuneralhome.com
DTSTAMP:20260422T213056Z
DTSTART:20260425T133000Z
DTEND:20260425T143000Z
SUMMARY:Mass
DESCRIPTION:
URL:https://www.galantefuneralhome.com/obituaries/carmela-fiasche
LOCATION: 259 Oliver St  Newark NJ 07105
GEO:40.7228267;-74.1619112
END:VEVENT
END:VCALENDAR